Workbook

Sheet 2022 to 2023
A2: 8K production from June Bin code data | H2: Bin code
A3: NO | B3: P_NO | C3: WO | D3: Qty | E3: Manufacture Date | F3: D/C | G3: L/C | H3: 221 | I3: 238 | J3: 239 | K3: 257 | L3: PW05 | M3: PW09 | N3: PW13
A4: 1 | B4: 96.1531T00 | C4: 002638009115 | D4: 2000 | E4: 45089 | F4: 220829 | G4: Y220829E1302KFFWX31 | L4: =VLOOKUP($G$4:$G$24,[1]工作表1!$A$5:$H$27,6,0) -> 72000 | M4: =VLOOKUP($G$4:$G$24,[1]工作表1!$A$5:$H$27,7,0) -> 52000 | N4: =VLOOKUP($G$4:$G$24,[1]工作表1!$A$5:$H$27,8,0) -> 0
A5: 2 | B5: 96.1531T00 | F5: 230508 | G5: Y230508O1302KFFWX23-
A6: 3 | B6: 96.1531T00 | F6: 230508 | G6: Y230508O1302KFFWX23B
A7: 4 | B7: 96.1531T00 | F7: 230512 | G7: Y230512E1302KFFWX09-
A8: 5 | B8: 96.1531T00 | F8: 230512 | G8: Y230512E1801KFFWX09-
A9: 6 | B9: 96.1531T00 | F9: 230512 | G9: Y230512E3002KFFWX30-
A10: 7 | B10: 96.1531T00 | F10: 230512 | G10: Y230512G1301KFFWX23-
A11: 8 | B11: 96.1531T00 | F11: 230512 | G11: Y230512O1302KFFWX09-
A12: 9 | B12: 96.1531T00 | F12: 230512 | G12: Y230512O1302KFFWX09B
A13: 10 | B13: 96.1531T00 | C13: 002638009855 | D13: 2050 | E13: 45112 | F13: 220829 | G13: Y220829E1302KFFWX31 | L13: =VLOOKUP($G$4:$G$24,[1]工作表1!$A$5:$H$27,6,0) -> 72000 | M13: =VLOOKUP($G$4:$G$24,[1]工作表1!$A$5:$H$27,7,0) -> 52000 | N13: =VLOOKUP($G$4:$G$24,[1]工作表1!$A$5:$H$27,8,0) -> 0
A14: 11 | B14: 96.1531T00 | F14: 230522 | G14: Y230522E1301KFFWX09-
A15: 12 | B15: 96.1531T00 | F15: 230522 | G15: Y230522E1302KFFWX09-
A16: 13 | B16: 96.1531T00 | F16: 230624 | G16: Y230624E1302KFFWX34 | K16: =VLOOKUP($G$4:$G$24,[1]工作表1!$A$5:$H$27,5,0) -> 4000 | L16: =VLOOKUP($G$4:$G$24,[1]工作表1!$A$5:$H$27,6,0) -> 20000 | M16: =VLOOKUP($G$4:$G$24,[1]工作表1!$A$5:$H$27,7,0) -> 32000 | N16: =VLOOKUP($G$4:$G$24,[1]工作表1!$A$5:$H$27,8,0) -> 30000
A17: 14 | B17: 96.1531T00 | C17: 002638010556 | D17: 1902 | E17: 45134 | F17: 230722 | G17: Y230722E1302KFFWX31 | K17: =VLOOKUP($G$4:$G$24,[1]工作表1!$A$5:$H$27,5,0) -> 12000 | N17: =VLOOKUP($G$4:$G$24,[1]工作表1!$A$5:$H$27,8,0) -> 24000
A18: 15 | B18: 96.1531T00 | F18: 230723 | G18: Y230723E1302KFFWX31 | K18: =VLOOKUP($G$4:$G$24,[1]工作表1!$A$5:$H$27,5,0) -> 24000 | N18: =VLOOKUP($G$4:$G$24,[1]工作表1!$A$5:$H$27,8,0) -> 82000
A19: 16 | B19: 96.1531T00 | C19: 002638010784 | D19: 2000 | E19: 45138 | F19: 230722 | G19: Y230722E1302KFFWX31 | K19: =VLOOKUP($G$4:$G$24,[1]工作表1!$A$5:$H$27,5,0) -> 12000 | N19: =VLOOKUP($G$4:$G$24,[1]工作表1!$A$5:$H$27,8,0) -> 24000
A20: 17 | B20: 96.1531T00 | F20: 230723 | G20: Y230723E1302KFFWX31 | K20: =VLOOKUP($G$4:$G$24,[1]工作表1!$A$5:$H$27,5,0) -> 24000 | N20: =VLOOKUP($G$4:$G$24,[1]工作表1!$A$5:$H$27,8,0) -> 82000
A21: 18 | B21: 96.1531T00 | F21: 230723 | G21: Y230723E1302KFFWXR31
A22: 19 | B22: 96.1531T00 | C22: 002643003713 | D22: 98 | E22: 45127 | F22: 220829 | G22: Y220829E1302KFFWX31 | L22: =VLOOKUP($G$4:$G$24,[1]工作表1!$A$5:$H$27,6,0) -> 72000 | M22: =VLOOKUP($G$4:$G$24,[1]工作表1!$A$5:$H$27,7,0) -> 52000 | N22: =VLOOKUP($G$4:$G$24,[1]工作表1!$A$5:$H$27,8,0) -> 0
A23: 20 | B23: 96.1531T00 | F23: 230512 | G23: Y230512G1301KFFWX23-
A24: 21 | B24: 96.1531T00 | F24: 230624 | G24: Y230624E1302KFFWX34 | K24: =VLOOKUP($G$4:$G$24,[1]工作表1!$A$5:$H$27,5,0) -> 4000 | L24: =VLOOKUP($G$4:$G$24,[1]工作表1!$A$5:$H$27,6,0) -> 20000 | M24: =VLOOKUP($G$4:$G$24,[1]工作表1!$A$5:$H$27,7,0) -> 32000 | N24: =VLOOKUP($G$4:$G$24,[1]工作表1!$A$5:$H$27,8,0) -> 30000
